BEGIN:VCALENDAR
VERSION:2.0
PRODID:-//ChamberMaster//Event Calendar 2.0//EN
METHOD:PUBLISH
X-PUBLISHED-TTL:P3D
REFRESH-INTERVAL:P3D
CALSCALE:GREGORIAN
BEGIN:VEVENT
DTSTART:20120505T150000Z
DTEND:20120505T190000Z
X-MICROSOFT-CDO-ALLDAYEVENT:FALSE
SUMMARY:Westside Elementary Carnival
DESCRIPTION:Join us for a fun filled day...\n\n	\n\n	Inflatables!  Minnow Races!  Photo Booth!\n\n	Face Painting!  Games & Prizes!\n\n	Cotton Candy\, Popcorn & Pizza!\n\n	Silent Auction\n\n	\n\n	Auction items include a 3 night resort stay\, airplane rides\, Twins game tickets\, a signed Packers football\, zoo passes\, golfing\, landscaping\, artwork\, Afton Alps lift tickets & more!
X-ALT-DESC;FMTTYPE=text/html:<p style="text-align: center">\n	<span style="color: #008000"><span style="font-size: 16px"><span style="font-family: arial">Join us for a fun filled day...<br />\n	<br />\n	Inflatables! &nbsp\;Minnow Races! &nbsp\;Photo Booth!<br />\n	Face Painting! &nbsp\;Games &amp\; Prizes!<br />\n	Cotton Candy\, Popcorn &amp\; Pizza!<br />\n	Silent Auction</span></span><br />\n	<br />\n	<span style="font-family: arial"><span style="font-size: 12px">Auction items include a 3 night resort stay\, airplane rides\, Twins game tickets\, a signed Packers football\, zoo passes\, golfing\, landscaping\, artwork\, Afton Alps lift tickets &amp\; more!</span></span></span></p>\n
LOCATION:Westside Elementary 1007 West Pine Street River Falls\, WI 540252
UID:e.87.3850
SEQUENCE:3
DTSTAMP:20260424T165115Z
URL:http://riverfallschamber.chambermaster.com/events/details/westside-elementary-carnival-05-05-2012-3850
END:VEVENT

END:VCALENDAR
