BEGIN:VCALENDAR
VERSION:2.0
PRODID:-//ChamberMaster//Event Calendar 2.0//EN
METHOD:PUBLISH
X-PUBLISHED-TTL:P3D
REFRESH-INTERVAL:P3D
CALSCALE:GREGORIAN
BEGIN:VEVENT
DTSTART:20120406T003000Z
DTEND:20120405T170000Z
X-MICROSOFT-CDO-ALLDAYEVENT:FALSE
SUMMARY:UWRF Commissioned Composer Convocation
DESCRIPTION:UW-River Falls will present the 46th annual Commissioned Composer Concert on April 5\, at 7:30 p.m.\, in Abbott Concert Hall of the Kleinpell Fine Arts building. The concert will feature works by Composer Cort Lippe.\n\n\n\nLippe\, an associate professor of composition at the University at Buffalo\, New York\, and director of the Lejaren Hiller Computer Music Studios\, will be at UWRF April 3-5\, conducting master classes and working with university ensembles.\n\n\n\nLippe has given more than 100 presentations and guest lectures around the world and has written for most major ensemble formations.  His music has been performed at more than 100 major festivals worldwide\, including the International Computer Music Conference\, ISCM World Music Days\, Gaudeamus (The Netherlands)\, the Music Today Festival (Tokyo)\, the Bourges Synthese Festival (France)\, the Huddersfield Festival (UK)\, and SARC's Sonorities Festival (UK).
X-ALT-DESC;FMTTYPE=text/html:<span style="color:#b22222\;"><span style="font-family:arial\;"><span style="font-size:14px\;">UW-River Falls will present the 46th annual Commissioned Composer Concert on April 5\, at 7:30 p.m.\, in Abbott Concert Hall of the Kleinpell Fine Arts building. The concert will feature works by Composer Cort Lippe.<br />\n<br />\nLippe\, an associate professor of composition at the University at Buffalo\, New York\, and director of the Lejaren Hiller Computer Music Studios\, will be at UWRF April 3-5\, conducting master classes and working with university ensembles.<br />\n<br />\nLippe has given more than 100 presentations and guest lectures around the world and has written for most major ensemble formations. &nbsp\;His music has been performed at more than 100 major festivals worldwide\, including the International Computer Music Conference\, ISCM World Music Days\, Gaudeamus (The Netherlands)\, the Music Today Festival (Tokyo)\, the Bourges Synthese Festival (France)\, the Huddersfield Festival (UK)\, and SARC&#39\;s Sonorities Festival (UK).</span></span></span>
LOCATION:KFA 131 William Abbott Concert Hall
UID:e.87.3411
SEQUENCE:3
DTSTAMP:20260420T145134Z
URL:http://riverfallschamber.chambermaster.com/events/details/uwrf-commissioned-composer-convocation-04-05-2012-3411
END:VEVENT

END:VCALENDAR
