BEGIN:VCALENDAR
VERSION:2.0
PRODID:-//ChamberMaster//Event Calendar 2.0//EN
METHOD:PUBLISH
X-PUBLISHED-TTL:P3D
REFRESH-INTERVAL:P3D
CALSCALE:GREGORIAN
BEGIN:VEVENT
DTSTART:20121018T203000Z
DTEND:20121018T220000Z
X-MICROSOFT-CDO-ALLDAYEVENT:FALSE
SUMMARY:Talking Circle: Allyship
DESCRIPTION:This talking circle is presented by UW-River Falls Student Life and PEACE. The event will take place in the Eau Galle room in the University Center. Advance sign up is required.
X-ALT-DESC;FMTTYPE=text/html:This talking circle is presented by UW-River Falls Student Life and PEACE. The event will take place in the Eau Galle room in the University Center. Advance sign up is required. 
LOCATION:
UID:e.87.4320
SEQUENCE:3
DTSTAMP:20260422T004531Z
URL:http://riverfallschamber.chambermaster.com/events/details/talking-circle-allyship-10-18-2012-4320
END:VEVENT

END:VCALENDAR
