BEGIN:VCALENDAR
VERSION:2.0
PRODID:-//ChamberMaster//Event Calendar 2.0//EN
METHOD:PUBLISH
X-PUBLISHED-TTL:P3D
REFRESH-INTERVAL:P3D
CALSCALE:GREGORIAN
BEGIN:VEVENT
DTSTART:20111014T210000Z
DTEND:20111014T233000Z
X-MICROSOFT-CDO-ALLDAYEVENT:FALSE
SUMMARY:Reverse Speaker's Corner
DESCRIPTION:International Education Week\n\n	Reverse Speaker's Corner\, an event where the English language tutors of ESL Speaker's Corner step aside to allow international students to teach others about THEIR language and THEIR culture. This is an excellent opportunity to meet international students\, share your culture and language with each other\, and learn about culture and language from around the world.
X-ALT-DESC;FMTTYPE=text/html:<p style="text-align: center">\n	<span style="font-size: 18px"><span style="font-weight: bold">International Education Week</span></span></p>\n<p>\n	<span style="font-family: tahoma"><span style="font-size: 14px"><span style="color: #000080"><strong>Reverse Speaker&#39\;s Corner</strong></span></span></span>\, <span style="font-size: 12px">an event where the English language tutors of ESL Speaker&#39\;s Corner step aside to allow international students&nbsp\;to&nbsp\;teach others about THEIR language and THEIR culture. This is an excellent opportunity to meet international students\, share your culture and language with each other\, and learn about culture and language from around the world.</span></p>\n
LOCATION:UWRF- Academic Success Center\, Chalmer Davee Library
UID:e.87.3202
SEQUENCE:3
DTSTAMP:20260425T193353Z
URL:http://riverfallschamber.chambermaster.com/events/details/reverse-speaker-s-corner-10-14-2011-3202
END:VEVENT

END:VCALENDAR
