BEGIN:VCALENDAR
VERSION:2.0
PRODID:-//ChamberMaster//Event Calendar 2.0//EN
METHOD:PUBLISH
X-PUBLISHED-TTL:P3D
REFRESH-INTERVAL:P3D
CALSCALE:GREGORIAN
BEGIN:VEVENT
DTSTART;VALUE=DATE:20120913
DTEND;VALUE=DATE:20120914
TRANSP:TRANSPARENT
X-MICROSOFT-CDO-ALLDAYEVENT:TRUE
SUMMARY:Restorative Justice Training
DESCRIPTION:Indigenous Perspectives on Circles and Justice\n\n	12:30 pm-1:45 pm // Kinni Theater\, UC\n\n	\n\n	Restorative Justice Basic Overview \n\n	2:00 pm-3:00 pm // Kinni Theater\, UC\n\n	\n\n	Restorative Justice Talking Circle Demonstration\n\n	3:30 pm-5:00 pm // Eau Galle River Room (332)\, UC\n\n	\n\n	Presentations will be by: \n\n	Gene Thin Elk\n\n	Kris Miner
X-ALT-DESC;FMTTYPE=text/html:<p>\n	<strong><span style="color: #ff0000">Indigenous Perspectives on Circles and Justice</span><br />\n	12:30 pm-1:45 pm // Kinni Theater\, UC</strong><br />\n	<br />\n	<strong><span style="color: #ff0000">Restorative J</span></strong><strong><span style="color: #ff0000">ustice Basic Overview </span><br />\n	2:00 pm-3:00 pm // Kinni Theater\, UC</strong><br />\n	<br />\n	<strong><span style="color: #ff0000">Restorative Justice Talking Circle Demonstration</span></strong><br />\n	<strong>3:30 pm-5:00 pm // Eau Galle River Room (332)\, UC<br />\n	<br />\n	<em><u>Presentations will be by: </u></em></strong><br />\n	Gene Thin Elk<br />\n	Kris Miner<br />\n	&nbsp\;</p>\n
LOCATION:University of Wisconsin-River Falls
UID:e.87.4082
SEQUENCE:3
DTSTAMP:20260420T002953Z
URL:http://riverfallschamber.chambermaster.com/events/details/restorative-justice-training-09-13-2012-4082
END:VEVENT

END:VCALENDAR
