BEGIN:VCALENDAR
VERSION:2.0
PRODID:-//ChamberMaster//Event Calendar 2.0//EN
METHOD:PUBLISH
X-PUBLISHED-TTL:P3D
REFRESH-INTERVAL:P3D
CALSCALE:GREGORIAN
BEGIN:VEVENT
DTSTART:20111208T140000Z
DTEND:20111208T180000Z
X-MICROSOFT-CDO-ALLDAYEVENT:FALSE
SUMMARY:Microsoft Excel 2010- Basic
DESCRIPTION:Microsoft Excel 2010- Basic\n\n	\n\n	Presented by: Trish Campbell\n\n	CVTC Business & Industry Technology Trainer\n\n	 \n\n	This course will cover the following topics:\n\n	\n		Working with tabs and ribbons\n	\n		Entering data in Excel\n	\n		Working with numbers\n	\n		Understanding save concepts\n	\n		Closing workbooks
X-ALT-DESC;FMTTYPE=text/html:<p style="text-align: center">\n	<span style="color: #800000"><span style="font-size: 16px"><strong>Microsoft Excel 2010- Basic</strong></span></span><br />\n	<br />\n	<span style="font-size: 16px"><strong><span style="font-size: 12px">Presented by: Trish Campbell</span></strong></span><br />\n	<span style="font-size: 12px"><strong>CVTC Business &amp\; Industry Technology Trainer</strong></span><br />\n	&nbsp\;</p>\n<p>\n	<span style="color: #800000">This course will cover the following topics:</span></p>\n<ul>\n	<li>\n		<span style="color: #800000">Working with tabs and ribbons</span></li>\n	<li>\n		<span style="color: #800000">Entering data in Excel</span></li>\n	<li>\n		<span style="color: #800000">Working with numbers</span></li>\n	<li>\n		<span style="color: #800000">Understanding save concepts</span></li>\n	<li>\n		<span style="color: #800000">Closing workbooks&nbsp\;</span></li>\n</ul>\n
LOCATION:Chippewa Valley Technical College\, Business Education Center\, Eau Claire
UID:e.87.3348
SEQUENCE:3
DTSTAMP:20260422T101821Z
URL:http://riverfallschamber.chambermaster.com/events/details/microsoft-excel-2010-basic-12-08-2011-3348
END:VEVENT

END:VCALENDAR
