BEGIN:VCALENDAR
VERSION:2.0
PRODID:-//ChamberMaster//Event Calendar 2.0//EN
METHOD:PUBLISH
X-PUBLISHED-TTL:P3D
REFRESH-INTERVAL:P3D
CALSCALE:GREGORIAN
BEGIN:VEVENT
DTSTART;VALUE=DATE:20120221
DTEND;VALUE=DATE:20120222
TRANSP:TRANSPARENT
X-MICROSOFT-CDO-ALLDAYEVENT:TRUE
SUMMARY:Lean Certificate Series
DESCRIPTION:Lean Certification Series\n\n	Program Details: The Lean Certification series comprises a series of workshops that include live simulations with a mentored implementation project at your company. This powerhouse combination provides swift and targeted technical competencies custom-fit to your unique needs. The cost savings from your first project typically pay back your investment many times over and promote the next continuous improvement activities.\n\n	 \n\n	This program is being hosted by University of Wisconsin-Stout's Professional Education Programs & Services and Northwest Wisconsin Manufacturing Outreach Center (NWMOC).
X-ALT-DESC;FMTTYPE=text/html:<p class="MsoNormal" style="line-height: normal\; margin: 0in 0in 3pt\; mso-outline-level: 3">\n	<b><u><span lang="EN" style="color: #333333\; mso-fareast-font-family: 'times new roman'\; mso-bidi-font-family: calibri\; mso-bidi-theme-font: minor-latin\; mso-ansi-language: en"><font size="3"><font face="Calibri">Lean Certification Series<o:p></o:p></font></font></span></u></b></p>\n<p class="MsoNormal" style="line-height: normal\; margin: 0in 0in 0pt">\n	<font face="Calibri"><b><span lang="EN" style="color: black\; mso-fareast-font-family: 'times new roman'\; mso-bidi-font-family: calibri\; mso-bidi-theme-font: minor-latin\; mso-ansi-language: en"><font size="3">Program Details: </font></span></b><span lang="EN" style="color: black\; mso-fareast-font-family: 'times new roman'\; mso-bidi-font-family: calibri\; mso-bidi-theme-font: minor-latin\; mso-ansi-language: en"><font size="3">The Lean Certification series comprises a series of workshops that include live simulations with a mentored implementation project at your company. This powerhouse combination provides swift and targeted technical competencies custom-fit to your unique needs. The cost savings from your first project typically pay back your investment many times over and promote the next continuous improvement activities.</font></span></font><br />\n	&nbsp\;</p>\n<p class="MsoNormal" style="margin: 0in 0in 10pt">\n	<font face="Calibri"><span lang="EN" style="color: black\; mso-fareast-font-family: 'times new roman'\; mso-bidi-font-family: calibri\; mso-bidi-theme-font: minor-latin\; mso-ansi-language: en"><i><font size="3">This program is being hosted by University of Wisconsin-Stout&rsquo\;s Professional Education Programs &amp\; Services and Northwest Wisconsin Manufacturing Outreach Center (NWMOC).<o:p></o:p></font></i></span></font></p>\n
LOCATION:Chippewa Valley Technical College - Gateway Campus 2320 Alpine Rd. Eau Claire\, WI 54703
UID:e.87.3323
SEQUENCE:3
DTSTAMP:20260420T002953Z
URL:http://riverfallschamber.chambermaster.com/events/details/lean-certificate-series-02-21-2012-3323
END:VEVENT

END:VCALENDAR
