BEGIN:VCALENDAR
VERSION:2.0
PRODID:-//ChamberMaster//Event Calendar 2.0//EN
METHOD:PUBLISH
X-PUBLISHED-TTL:P3D
REFRESH-INTERVAL:P3D
CALSCALE:GREGORIAN
BEGIN:VEVENT
DTSTART:20121031T220000Z
DTEND:20121101T000000Z
X-MICROSOFT-CDO-ALLDAYEVENT:FALSE
SUMMARY:Fall Carnival
DESCRIPTION:Fall Carnival\n	\n		Wednesday\, October 31st 5:00 pm to 7:00 pm\n	\n		Games\, refreshments and candy in a safe environment. An anticipated event for more than 20 years! \n\n		\n\n		If you are interested in helping their are many ways\;\n\n		You can giving a cash donation for candy or donate candy\n\n		Sign up to set up games and decorate\n\n		Run a game\n\n		Or help with clean up\n\n		 \n	\n		Location: Abundant Life Church\n	896 State Road 65\n\n	River Falls\, WI 54022
X-ALT-DESC;FMTTYPE=text/html:<div style="color: gray">\n	<div style="font-size: 170%\; font-weight: bold">\n		<span style="color: #ffa500"><span style="font-size: 18px"><span style="font-family: comic sans ms">Fall Carnival</span></span></span></div>\n	<div>\n		<span style="font-size: 16px"><span style="font-family: comic sans ms"><span style="color: #ff0000">Wednesday\, October 31st 5:00 pm to 7:00 pm</span></span></span></div>\n	<div>\n		<span style="font-size: 16px"><span style="font-family: comic sans ms"><span style="color: #ff0000">Games\, refreshments and candy in a safe environment. An anticipated event for more than 20 years! </span><br />\n		<br />\n		<span style="color: #006400">If you are interested in helping their are many ways\;<br />\n		You can giving a cash donation for candy or donate candy<br />\n		Sign up to set up games and&nbsp\;decorate<br />\n		Run a game<br />\n		Or help with clean up</span></span></span><br />\n		&nbsp\;</div>\n	<div>\n		<span style="font-size: 16px"><span style="font-family: comic sans ms"><span style="color: #ff0000"><b><u>Location</u>: Abundant Life Church</b></span></span></span></div>\n	<span style="font-size: 16px"><span style="font-family: comic sans ms"><span style="color: #ff0000">896 State Road 65<br />\n	River Falls\, WI 54022</span></span></span></div>\n
LOCATION:Abundant Life Church 896 State Road 65 River Falls\, WI 54022-8273
UID:e.87.4335
SEQUENCE:3
DTSTAMP:20260419T201108Z
URL:http://riverfallschamber.chambermaster.com/events/details/fall-carnival-10-31-2012-4335
END:VEVENT

END:VCALENDAR
