BEGIN:VCALENDAR
VERSION:2.0
PRODID:-//ChamberMaster//Event Calendar 2.0//EN
METHOD:PUBLISH
X-PUBLISHED-TTL:P3D
REFRESH-INTERVAL:P3D
CALSCALE:GREGORIAN
BEGIN:VEVENT
DTSTART:20121030T220000Z
DTEND:20121031T000000Z
X-MICROSOFT-CDO-ALLDAYEVENT:FALSE
SUMMARY:Fall Carnival
DESCRIPTION:Abundant Life Church invites you to join them in an evening of carnival games\, candy & prizes!   This event is free and open to the public.  Please bring a food donation for the River Falls food pantry.  Candy donations gladly accepted.
X-ALT-DESC;FMTTYPE=text/html:<span style="color:#006400\;"><span style="font-size: 14px\; "><strong>Abundant Life Church invites you to join them in an evening of carnival games\, candy &amp\; prizes! &nbsp\; This event is free and open to the public. &nbsp\;Please bring a food donation for the River Falls food pantry. &nbsp\;Candy donations gladly accepted.&nbsp\;</strong></span></span>
LOCATION:Abundant Life Church 896 State Road 65 River Falls\, WI
UID:e.87.4405
SEQUENCE:3
DTSTAMP:20260420T031424Z
URL:http://riverfallschamber.chambermaster.com/events/details/fall-carnival-10-30-2012-4405
END:VEVENT

END:VCALENDAR
