BEGIN:VCALENDAR
VERSION:2.0
PRODID:-//ChamberMaster//Event Calendar 2.0//EN
METHOD:PUBLISH
X-PUBLISHED-TTL:P3D
REFRESH-INTERVAL:P3D
CALSCALE:GREGORIAN
BEGIN:VEVENT
DTSTART:20120421T140000Z
DTEND:20120421T163000Z
X-MICROSOFT-CDO-ALLDAYEVENT:FALSE
SUMMARY:EmpowHer
DESCRIPTION:EmpowHer \n\n	\n\n	Click Here For Flyer\n\n	\n\n	Saturday April 21st\, 9 - 11:30a.m. River Fall Area Hospital   \n\n	Come and learn tips for healthy living while getting pampered! \n\n	 Topics include\n\n	  How to survive periomenopause and menopause   Beth Shockey -Woll\, NP                     \n\n	  Learn how to minimize the impact age has on our skin   Joseph W. Rucker\, Jr.\, MD         \n\n	  Self defense quick tips   Josh Cleveland                                                              \n\n	  Quick healthful meals for you and your family   Taren Weyer                                             \n\n	  Chair Massages   Lori's Day Spa                                                                                 \n\n	  Free admission but reservations required. Call 715-307-6060.
X-ALT-DESC;FMTTYPE=text/html:&nbsp\;\n<div style="text-align: center\; margin-bottom: 12pt">\n	<span style="font-size: 22px">EmpowHer&nbsp\;</span><br />\n	<br />\n	<a href="http://cloud.chambermaster.com/userfiles/UserFiles/chambers/87/File/11865RFEmpowerFlyer_3-12-12.pdf">Click Here&nbsp\;For Flyer</a><br />\n	<br />\n	<strong>Saturday April 21st\, 9 - 11:30a.m. River Fall Area Hospital</strong>&nbsp\;&nbsp\;&nbsp\;</div>\n<div style="text-align: center\; margin-bottom: 12pt">\n	Come and learn tips for healthy living while&nbsp\;getting&nbsp\;pampered!&nbsp\;<br />\n	&nbsp\;Topics&nbsp\;include</div>\n<div style="margin-bottom: 12pt">\n	<span style="font-size: 16px"><span style="font-family: times new roman">&bull\; How to survive periomenopause and&nbsp\;menopause &ndash\; Beth Shockey -Woll\, NP&nbsp\;&nbsp\;&nbsp\;&nbsp\;&nbsp\;&nbsp\;&nbsp\;&nbsp\;&nbsp\;&nbsp\;&nbsp\;&nbsp\;&nbsp\;&nbsp\;&nbsp\;&nbsp\;&nbsp\;&nbsp\;&nbsp\;&nbsp\;&nbsp\;</span></span></div>\n<div style="margin-bottom: 12pt">\n	<span style="font-size: 16px"><span style="font-family: times new roman">&bull\; Learn how to minimize the impact age has on our skin &ndash\; Joseph W. Rucker\, Jr.\, MD&nbsp\;&nbsp\;&nbsp\;&nbsp\;&nbsp\;&nbsp\;&nbsp\;&nbsp\; </span></span></div>\n<div style="margin-bottom: 12pt">\n	<span style="font-size: 16px"><span style="font-family: times new roman">&bull\; Self defense quick tips &ndash\; Josh Cleveland&nbsp\;&nbsp\;&nbsp\;&nbsp\;&nbsp\;&nbsp\;&nbsp\;&nbsp\;&nbsp\;&nbsp\;&nbsp\;&nbsp\;&nbsp\;&nbsp\;&nbsp\;&nbsp\;&nbsp\;&nbsp\;&nbsp\;&nbsp\;&nbsp\;&nbsp\;&nbsp\;&nbsp\;&nbsp\;&nbsp\;&nbsp\;&nbsp\;&nbsp\;&nbsp\;&nbsp\;&nbsp\;&nbsp\;&nbsp\;&nbsp\;&nbsp\;&nbsp\;&nbsp\;&nbsp\;&nbsp\;&nbsp\;&nbsp\;&nbsp\;&nbsp\;&nbsp\;&nbsp\;&nbsp\;&nbsp\;&nbsp\;&nbsp\;&nbsp\;&nbsp\;&nbsp\;&nbsp\;&nbsp\;&nbsp\;&nbsp\;&nbsp\;&nbsp\;&nbsp\;&nbsp\; </span></span></div>\n<div style="margin-bottom: 12pt">\n	<span style="font-size: 16px"><span style="font-family: times new roman">&bull\; Quick healthful meals for you and your family &ndash\; Taren Weyer&nbsp\;&nbsp\;&nbsp\;&nbsp\;&nbsp\;&nbsp\;&nbsp\;&nbsp\;&nbsp\;&nbsp\;&nbsp\;&nbsp\;&nbsp\;&nbsp\;&nbsp\;&nbsp\;&nbsp\;&nbsp\;&nbsp\;&nbsp\;&nbsp\;&nbsp\;&nbsp\;&nbsp\;&nbsp\;&nbsp\;&nbsp\;&nbsp\;&nbsp\;&nbsp\;&nbsp\;&nbsp\;&nbsp\;&nbsp\;&nbsp\;&nbsp\;&nbsp\;&nbsp\;&nbsp\;&nbsp\;&nbsp\;&nbsp\;&nbsp\;&nbsp\;&nbsp\;</span></span></div>\n<div style="margin-bottom: 12pt">\n	<span style="font-size: 16px"><span style="font-family: times new roman">&bull\; Chair Massages &ndash\; Lori&rsquo\;s Day Spa&nbsp\;&nbsp\;&nbsp\;&nbsp\;&nbsp\;&nbsp\;&nbsp\;&nbsp\;&nbsp\;&nbsp\;&nbsp\;&nbsp\;&nbsp\;&nbsp\;&nbsp\;&nbsp\;&nbsp\;&nbsp\;&nbsp\;&nbsp\;&nbsp\;&nbsp\;&nbsp\;&nbsp\;&nbsp\;&nbsp\;&nbsp\;&nbsp\;&nbsp\;&nbsp\;&nbsp\;&nbsp\; &nbsp\;&nbsp\;&nbsp\;&nbsp\;&nbsp\;&nbsp\;&nbsp\;&nbsp\;&nbsp\;&nbsp\;&nbsp\;&nbsp\;&nbsp\;&nbsp\;&nbsp\;&nbsp\;&nbsp\;&nbsp\;&nbsp\;&nbsp\;&nbsp\;&nbsp\;&nbsp\;&nbsp\;&nbsp\;&nbsp\;&nbsp\;&nbsp\;&nbsp\;&nbsp\;&nbsp\;&nbsp\;&nbsp\;&nbsp\;&nbsp\;&nbsp\;&nbsp\;&nbsp\;&nbsp\;&nbsp\;&nbsp\;&nbsp\;&nbsp\;&nbsp\;&nbsp\;&nbsp\;&nbsp\; </span></span></div>\n<div style="margin-bottom: 12pt">\n	<span style="font-size: 16px"><span style="font-family: times new roman">&bull\; Free admission but reservations required. Call 715-307-6060.</span></span></div>\n
LOCATION:River Falls Area Hospital 1629 E. Division Street River Falls\, WI 54022
UID:e.87.3845
SEQUENCE:3
DTSTAMP:20260425T212518Z
URL:http://riverfallschamber.chambermaster.com/events/details/empowher-04-21-2012-3845
END:VEVENT

END:VCALENDAR
