BEGIN:VCALENDAR
VERSION:2.0
PRODID:-//ChamberMaster//Event Calendar 2.0//EN
METHOD:PUBLISH
X-PUBLISHED-TTL:P3D
REFRESH-INTERVAL:P3D
CALSCALE:GREGORIAN
BEGIN:VEVENT
DTSTART;VALUE=DATE:20111104
DTEND;VALUE=DATE:20111126
TRANSP:TRANSPARENT
X-MICROSOFT-CDO-ALLDAYEVENT:TRUE
SUMMARY:Donations Sought
DESCRIPTION:The Annual Christmas Gift Shop\, Sponsored by the American Legion Auxiliary Unit 121 and held at Freeman drug Store (104 S. Main Street) seeks donations of new items for hospitalized Minneapolis Veterans who can use them to give as gifts to their loved ones. \n\nGifts are wrapped and boxed for delivery in time for Christmas by auxiliary members and can include: Sweatshirts for men\, women\, and children\, flannel shirts\, three-piece bath towel sets\, knit hat/scarf/mitten sets\, socks\, games\, stuffed animals\, toy cars and trucks\, dolls\, pillow cases\, and more.\n\nMore ideas are posted at the drug store.\n\n\n\nDonations will be accepted at the store beginning Friday\, Nov. 4th\, through Friday Nov. 25th.\n\n\n\nPlease call 715.425.5585 with questions.
X-ALT-DESC;FMTTYPE=text/html:<span style="color: #800000"><span style="font-family: tahoma">The Annual Christmas Gift Shop\, Sponsored by the American Legion Auxiliary Unit 121 and held at Freeman drug Store (104 S. Main Street) seeks donations of new items for hospitalized Minneapolis Veterans who can use them to give as gifts to their loved ones.&nbsp\;<br />\nGifts are wrapped and boxed for delivery in time for Christmas by auxiliary members and can include: Sweatshirts for men\, women\, and children\, flannel shirts\, three-piece bath towel sets\, knit hat/scarf/mitten sets\, socks\, games\, stuffed animals\, toy cars and trucks\, dolls\, pillow cases\, and more.<br />\nMore ideas are posted at the drug store.<br />\n<br />\nDonations will be accepted at the store beginning Friday\, Nov. 4th\, through Friday Nov. 25th.<br />\n<br />\nPlease call 715.425.5585 with questions.</span></span>
LOCATION:Donations will be accepted at the Freeman Drug Store\, 104 S. Main Street.
UID:e.87.3222
SEQUENCE:3
DTSTAMP:20260425T164906Z
URL:http://riverfallschamber.chambermaster.com/events/details/donations-sought-11-04-2011-3222
END:VEVENT

END:VCALENDAR
