BEGIN:VCALENDAR
VERSION:2.0
PRODID:-//ChamberMaster//Event Calendar 2.0//EN
METHOD:PUBLISH
X-PUBLISHED-TTL:P3D
REFRESH-INTERVAL:P3D
CALSCALE:GREGORIAN
BEGIN:VEVENT
DTSTART:20120217T000000Z
DTEND:20120217T020000Z
X-MICROSOFT-CDO-ALLDAYEVENT:FALSE
SUMMARY:Culinary Demonstration
DESCRIPTION:The community is invited to a Taste of Health: A Heart-Healthy Lifestyle Culinary Demonstration at WelLHaven.  WelLHaven will welcome Mike Shannon\, Executive Chef & Culinary Director\, for the Cooks of Crocus Hill - culinary boutique and cooking school - in the Twin Cities.  The demonstration will be both entertaining and engaging.  Chef Mike will prove how everyday cooking can be gourmet\, heart-healthy and above all\, delicious! As part of the presentation\, all members of the audience will receive samples to taste and enjoy\, as well as recipes to take home and try out.  After the event\, WelLHaven invites you to stay for heart-healthy appetizers\, refreshments and conversation.\n\n\n\nThose who register in advance will be entered to win a heart-healthy Le Creuset Gift Basket.  Don't miss this exciting opportunity to empower yourself to take control of your kitchen and your health!
X-ALT-DESC;FMTTYPE=text/html:The community is invited to a Taste of Health: A Heart-Healthy Lifestyle Culinary Demonstration at WelLHaven.&nbsp\; WelLHaven will welcome Mike Shannon\, Executive Chef &amp\; Culinary Director\, for the Cooks of Crocus Hill - culinary boutique and cooking school - in the Twin Cities.&nbsp\; The demonstration will be both entertaining and engaging.&nbsp\; Chef Mike will prove how everyday cooking can be gourmet\, heart-healthy and above all\, delicious! As part of the presentation\, all members of the audience will receive samples to taste and enjoy\, as well as recipes to take home and try out.&nbsp\; After the event\, WelLHaven invites you to stay for heart-healthy appetizers\, refreshments and conversation.<br />\n<br />\nThose who register in advance will be entered to win a heart-healthy Le Creuset Gift Basket.&nbsp\; Don&#39\;t miss this exciting opportunity to empower yourself to take control of your kitchen and your health!
LOCATION:The demonstration will be at WelLHaven\, 119 Union St.
UID:e.87.3482
SEQUENCE:3
DTSTAMP:20260420T002953Z
URL:http://riverfallschamber.chambermaster.com/events/details/culinary-demonstration-02-16-2012-3482
END:VEVENT

END:VCALENDAR
