BEGIN:VCALENDAR
VERSION:2.0
PRODID:-//ChamberMaster//Event Calendar 2.0//EN
METHOD:PUBLISH
X-PUBLISHED-TTL:P3D
REFRESH-INTERVAL:P3D
CALSCALE:GREGORIAN
BEGIN:VEVENT
DTSTART:20180626T190000Z
DTEND:20180626T230000Z
X-MICROSOFT-CDO-ALLDAYEVENT:FALSE
SUMMARY:Community Bingo
DESCRIPTION:Our House Senior Living presents Community Bingo! Prizes will be awarded. Treats and coffee will be provided.
X-ALT-DESC;FMTTYPE=text/html:Our House Senior Living presents Community Bingo! Prizes will be awarded. Treats and coffee will be provided.
LOCATION:River Falls Memory Care 902 South Wasson Lane River Falls\, WI
UID:e.87.10979
SEQUENCE:3
DTSTAMP:20260422T045826Z
URL:http://riverfallschamber.chambermaster.com/events/details/community-bingo-10979
END:VEVENT

END:VCALENDAR
