BEGIN:VCALENDAR
VERSION:2.0
PRODID:-//ChamberMaster//Event Calendar 2.0//EN
METHOD:PUBLISH
X-PUBLISHED-TTL:P3D
REFRESH-INTERVAL:P3D
CALSCALE:GREGORIAN
BEGIN:VEVENT
DTSTART:20121009T200000Z
DTEND:20121009T210000Z
X-MICROSOFT-CDO-ALLDAYEVENT:FALSE
SUMMARY:Chamber Workshop
DESCRIPTION:The Chamber is committed to making sure you are getting the most of your membership dollars.  This is why we have added four workshops this year with the theme of Maximizing Your Membership. \n\n	\n\n	These fast-paced\, informal\, FREE workshops are open to all current and potential members.  Topics will include: website opportunities\, sponsorships\, hot deals\, networking options\, marketing ideas\, and more.  So make it a point to attend one of these workshops.
X-ALT-DESC;FMTTYPE=text/html:<p>\n	The Chamber is committed to making sure you are getting the most of your membership dollars.&nbsp\; This is why we have added four workshops this year with the theme of <strong>Maximizing Your Membership</strong>.&nbsp\;<br />\n	<br />\n	These fast-paced\, informal\, FREE workshops are open to all current and potential members.&nbsp\; Topics will include: website opportunities\, sponsorships\, hot deals\, networking options\, marketing ideas\, and more.&nbsp\; So make it a point to attend one of these workshops.</p>\n
LOCATION:River Falls Public Library Upper Board Room
UID:e.87.3461
SEQUENCE:3
DTSTAMP:20260420T081057Z
URL:http://riverfallschamber.chambermaster.com/events/details/chamber-workshop-10-09-2012-3461
END:VEVENT

END:VCALENDAR
