BEGIN:VCALENDAR
VERSION:2.0
PRODID:-//ChamberMaster//Event Calendar 2.0//EN
METHOD:PUBLISH
X-PUBLISHED-TTL:P3D
REFRESH-INTERVAL:P3D
CALSCALE:GREGORIAN
BEGIN:VEVENT
DTSTART:20120212T193000Z
DTEND:20120212T213000Z
X-MICROSOFT-CDO-ALLDAYEVENT:FALSE
SUMMARY:Candidate forum
DESCRIPTION:On Sunday\, February 12\, from 1:30-3:30 p.m. the Pierce County Democratic Party will be holding a candidate forum at the River Falls Public Library.  Come meet candidates running for local\, state\, and national seats this year.  This event is open to the public.
X-ALT-DESC;FMTTYPE=text/html:On Sunday\, February 12\, from 1:30-3:30 p.m. the Pierce County Democratic Party will be holding a candidate forum at the River Falls Public Library.&nbsp\; Come meet candidates running for local\, state\, and national seats this year.&nbsp\; This event is open to the public.
LOCATION:Being held at the River Falls Public Library.
UID:e.87.3486
SEQUENCE:3
DTSTAMP:20260421T001138Z
URL:http://riverfallschamber.chambermaster.com/events/details/candidate-forum-02-12-2012-3486
END:VEVENT

END:VCALENDAR
