BEGIN:VCALENDAR
VERSION:2.0
PRODID:-//ChamberMaster//Event Calendar 2.0//EN
METHOD:PUBLISH
X-PUBLISHED-TTL:P3D
REFRESH-INTERVAL:P3D
CALSCALE:GREGORIAN
BEGIN:VEVENT
DTSTART:20120210T010000Z
DTEND:20120210T030000Z
X-MICROSOFT-CDO-ALLDAYEVENT:FALSE
SUMMARY:Baldwin Beekeeper Meeting
DESCRIPTION:The St. Croix Valley Beekeepers meeting is at 7 p.m. Thursday\, Feb. 9\, (second Thursday of the month) at Peace Lutheran Church\, 2084 County RD N.  We are trying something new this year at our meetings - business meeting will be followed by two programs at the same time - Beginner's Program (package bee orders by Jerry Rodewald)\; and Master Beekeeping Program (Wisconsin Honey Producers by Dan Klasen)\; social hour follows.  Everyone welcome.
X-ALT-DESC;FMTTYPE=text/html:The St. Croix Valley Beekeepers meeting is at 7 p.m. Thursday\, Feb. 9\, (second Thursday of the month) at Peace Lutheran Church\, 2084 County RD N.&nbsp\; We are trying something new this year at our meetings - business meeting will be followed by two programs at the same time - Beginner&#39\;s Program (package bee orders by Jerry Rodewald)\; and Master Beekeeping Program (Wisconsin Honey Producers by Dan Klasen)\; social hour follows.&nbsp\; Everyone welcome.
LOCATION:Peace Lutheran Church 2084 County RD N
UID:e.87.3473
SEQUENCE:3
DTSTAMP:20260420T082406Z
URL:http://riverfallschamber.chambermaster.com/events/details/baldwin-beekeeper-meeting-02-09-2012-3473
END:VEVENT

END:VCALENDAR
