BEGIN:VCALENDAR
VERSION:2.0
PRODID:-//ChamberMaster//Event Calendar 2.0//EN
METHOD:PUBLISH
X-PUBLISHED-TTL:P3D
REFRESH-INTERVAL:P3D
CALSCALE:GREGORIAN
BEGIN:VEVENT
DTSTART:20120411T003000Z
DTEND:20120411T020000Z
X-MICROSOFT-CDO-ALLDAYEVENT:FALSE
SUMMARY:AAUW-RF Community Program
DESCRIPTION:AAUW Advances equity for women and girls through advocacy\, education\, philanthropy and research.  AAWU-RF invites you to Community Program-Poverty and Its Implications on Childhood Well-Being\, 7:30pm at the River Falls Public Library.  This event is free and open to the public.
X-ALT-DESC;FMTTYPE=text/html:<span style="font-family: tahoma"><span style="font-size: 14px">AAUW Advances equity for women and girls through advocacy\, education\, philanthropy and research.&nbsp\; AAWU-RF invites you to Community Program-Poverty and Its Implications on Childhood Well-Being\, 7:30pm at the River Falls Public Library.&nbsp\; This event is free and open to the public.</span></span>
LOCATION:River Falls Public Library
UID:e.87.3165
SEQUENCE:3
DTSTAMP:20260420T071109Z
URL:http://riverfallschamber.chambermaster.com/events/details/aauw-rf-community-program-04-10-2012-3165
END:VEVENT

END:VCALENDAR
